Package: iSEEu Version: 1.18.0 Command: /Library/Frameworks/R.framework/Resources/bin/R CMD INSTALL iSEEu StartedAt: 2025-01-27 17:01:20 -0500 (Mon, 27 Jan 2025) EndedAt: 2025-01-27 17:01:59 -0500 (Mon, 27 Jan 2025) EllapsedTime: 38.8 seconds RetCode: 0 Status: OK