Package: iSEEpathways Version: 1.4.0 Command: /home/biocbuild/R/R/bin/R CMD INSTALL iSEEpathways StartedAt: 2025-02-03 20:59:08 -0000 (Mon, 03 Feb 2025) EndedAt: 2025-02-03 20:59:45 -0000 (Mon, 03 Feb 2025) EllapsedTime: 37.2 seconds RetCode: 0 Status: OK