Package: iSEEpathways Version: 1.4.0 Command: /home/biocbuild/R/R/bin/R CMD check --install=check:iSEEpathways.install-out.txt --library=/home/biocbuild/R/R/site-library --no-vignettes --timings iSEEpathways_1.4.0.tar.gz StartedAt: 2025-01-31 07:28:10 -0000 (Fri, 31 Jan 2025) EndedAt: 2025-01-31 07:32:04 -0000 (Fri, 31 Jan 2025) EllapsedTime: 234.3 seconds RetCode: 0 Status: OK CheckDir: iSEEpathways.Rcheck Warnings: 0