Package: iSEEpathways Version: 1.4.0 Command: /home/biocbuild/bbs-3.20-bioc/R/bin/R CMD check --install=check:iSEEpathways.install-out.txt --library=/home/biocbuild/bbs-3.20-bioc/R/site-library --timings iSEEpathways_1.4.0.tar.gz StartedAt: 2025-03-31 23:15:59 -0400 (Mon, 31 Mar 2025) EndedAt: 2025-03-31 23:21:59 -0400 (Mon, 31 Mar 2025) EllapsedTime: 360.4 seconds RetCode: 0 Status: OK CheckDir: iSEEpathways.Rcheck Warnings: 0