Package: iSEEpathways Version: 1.4.0 Command: /Library/Frameworks/R.framework/Resources/bin/R CMD build --keep-empty-dirs --no-resave-data iSEEpathways StartedAt: 2025-04-01 01:50:01 -0400 (Tue, 01 Apr 2025) EndedAt: 2025-04-01 01:53:44 -0400 (Tue, 01 Apr 2025) EllapsedTime: 223.3 seconds RetCode: 0 Status: OK PackageFile: iSEEpathways_1.4.0.tar.gz PackageFileSize: 2.138 MiB