Package: iSEEindex Version: 1.4.0 Command: /home/biocbuild/R/R/bin/R CMD INSTALL iSEEindex StartedAt: 2025-01-27 21:40:41 -0000 (Mon, 27 Jan 2025) EndedAt: 2025-01-27 21:41:21 -0000 (Mon, 27 Jan 2025) EllapsedTime: 40.3 seconds RetCode: 0 Status: OK