Package: iSEEhub Version: 1.8.0 Command: /home/biocbuild/R/R/bin/R CMD build --keep-empty-dirs --no-resave-data iSEEhub StartedAt: 2025-01-28 01:07:23 -0000 (Tue, 28 Jan 2025) EndedAt: 2025-01-28 01:08:30 -0000 (Tue, 28 Jan 2025) EllapsedTime: 67.0 seconds RetCode: 0 Status: OK PackageFile: iSEEhub_1.8.0.tar.gz PackageFileSize: 6.749 MiB