Package: iSEEhub Version: 1.8.0 Command: /Library/Frameworks/R.framework/Resources/bin/R CMD INSTALL iSEEhub StartedAt: 2025-03-31 16:00:22 -0400 (Mon, 31 Mar 2025) EndedAt: 2025-03-31 16:01:30 -0400 (Mon, 31 Mar 2025) EllapsedTime: 68.6 seconds RetCode: 0 Status: OK