Package: iSEEhub Version: 1.8.0 Command: /Library/Frameworks/R.framework/Resources/bin/R CMD build --keep-empty-dirs --no-resave-data iSEEhub StartedAt: 2024-11-08 17:50:07 -0500 (Fri, 08 Nov 2024) EndedAt: 2024-11-08 17:50:28 -0500 (Fri, 08 Nov 2024) EllapsedTime: 21.2 seconds RetCode: 0 Status: OK PackageFile: iSEEhub_1.8.0.tar.gz PackageFileSize: 6.619 MiB