Package: iSEEhex Version: 1.8.0 Command: /home/biocbuild/R/R/bin/R CMD INSTALL iSEEhex StartedAt: 2025-02-03 20:59:23 -0000 (Mon, 03 Feb 2025) EndedAt: 2025-02-03 21:00:01 -0000 (Mon, 03 Feb 2025) EllapsedTime: 37.5 seconds RetCode: 0 Status: OK