Package: iSEEhex Version: 1.8.0 Command: /home/biocbuild/R/R/bin/R CMD build --keep-empty-dirs --no-resave-data iSEEhex StartedAt: 2025-02-04 00:28:17 -0000 (Tue, 04 Feb 2025) EndedAt: 2025-02-04 00:29:27 -0000 (Tue, 04 Feb 2025) EllapsedTime: 70.0 seconds RetCode: 0 Status: OK PackageFile: iSEEhex_1.8.0.tar.gz PackageFileSize: 510.9 KiB