Package: iSEE Version: 2.18.0 Command: /home/biocbuild/R/R/bin/R CMD INSTALL iSEE StartedAt: 2025-03-31 20:46:44 -0000 (Mon, 31 Mar 2025) EndedAt: 2025-03-31 20:47:38 -0000 (Mon, 31 Mar 2025) EllapsedTime: 53.8 seconds RetCode: 0 Status: OK