Package: iSEE Version: 2.18.0 Command: /home/biocbuild/R/R/bin/R CMD check --install=check:iSEE.install-out.txt --library=/home/biocbuild/R/R/site-library --no-vignettes --timings iSEE_2.18.0.tar.gz StartedAt: 2025-02-04 08:08:26 -0000 (Tue, 04 Feb 2025) EndedAt: 2025-02-04 08:14:36 -0000 (Tue, 04 Feb 2025) EllapsedTime: 370.4 seconds RetCode: 0 Status: OK CheckDir: iSEE.Rcheck Warnings: 0