Package: iSEE Version: 2.18.0 Command: /home/biocbuild/R/R/bin/R CMD build --keep-empty-dirs --no-resave-data iSEE StartedAt: 2025-02-04 00:27:11 -0000 (Tue, 04 Feb 2025) EndedAt: 2025-02-04 00:29:56 -0000 (Tue, 04 Feb 2025) EllapsedTime: 165.1 seconds RetCode: 0 Status: OK PackageFile: iSEE_2.18.0.tar.gz PackageFileSize: 26.3 MiB