Package: iSEE Version: 2.18.0 Command: /home/biocbuild/bbs-3.20-bioc/R/bin/R CMD INSTALL iSEE StartedAt: 2025-02-03 15:46:14 -0500 (Mon, 03 Feb 2025) EndedAt: 2025-02-03 15:46:59 -0500 (Mon, 03 Feb 2025) EllapsedTime: 45.1 seconds RetCode: 0 Status: OK