Package: iSEE Version: 2.18.0 Command: /Library/Frameworks/R.framework/Resources/bin/R CMD build --keep-empty-dirs --no-resave-data iSEE StartedAt: 2025-01-27 19:54:31 -0500 (Mon, 27 Jan 2025) EndedAt: 2025-01-27 19:59:45 -0500 (Mon, 27 Jan 2025) EllapsedTime: 314.2 seconds RetCode: 0 Status: OK PackageFile: iSEE_2.18.0.tar.gz PackageFileSize: 25.6 MiB