Package: iSEE Version: 2.18.0 Command: /Library/Frameworks/R.framework/Resources/bin/R CMD INSTALL iSEE StartedAt: 2025-01-27 16:59:31 -0500 (Mon, 27 Jan 2025) EndedAt: 2025-01-27 17:00:16 -0500 (Mon, 27 Jan 2025) EllapsedTime: 44.9 seconds RetCode: 0 Status: OK