Package: iPath Version: 1.12.0 Command: chmod a+r iPath -R && F:\biocbuild\bbs-3.20-bioc\R\bin\R.exe CMD build --keep-empty-dirs --no-resave-data iPath StartedAt: 2025-01-27 19:41:23 -0500 (Mon, 27 Jan 2025) EndedAt: 2025-01-27 19:42:39 -0500 (Mon, 27 Jan 2025) EllapsedTime: 76.3 seconds RetCode: 1 Status: ERROR PackageFile: None PackageFileSize: NA