Package: iPath Version: 1.12.0 Command: /home/biocbuild/bbs-3.20-bioc/R/bin/R CMD check --install=check:iPath.install-out.txt --library=/home/biocbuild/bbs-3.20-bioc/R/site-library --timings iPath_1.12.0.tar.gz StartedAt: 2025-01-28 00:10:48 -0500 (Tue, 28 Jan 2025) EndedAt: 2025-01-28 00:12:33 -0500 (Tue, 28 Jan 2025) EllapsedTime: 104.1 seconds RetCode: 0 Status: OK CheckDir: iPath.Rcheck Warnings: 0