Package: iPath Version: 1.12.0 Command: /home/biocbuild/bbs-3.20-bioc/R/bin/R CMD build --keep-empty-dirs --no-resave-data --md5 iPath StartedAt: 2025-01-27 18:40:35 -0500 (Mon, 27 Jan 2025) EndedAt: 2025-01-27 18:41:08 -0500 (Mon, 27 Jan 2025) EllapsedTime: 33.0 seconds RetCode: 0 Status: OK PackageFile: iPath_1.12.0.tar.gz PackageFileSize: 2.975 MiB