Package: iPath Version: 1.12.0 Command: /Library/Frameworks/R.framework/Resources/bin/R CMD check --install=check:iPath.install-out.txt --library=/Library/Frameworks/R.framework/Resources/library --no-vignettes --timings iPath_1.12.0.tar.gz StartedAt: 2025-01-28 05:28:26 -0500 (Tue, 28 Jan 2025) EndedAt: 2025-01-28 05:31:31 -0500 (Tue, 28 Jan 2025) EllapsedTime: 185.1 seconds RetCode: 0 Status: OK CheckDir: iPath.Rcheck Warnings: 0