Package: iPath Version: 1.12.0 Command: /Library/Frameworks/R.framework/Resources/bin/R CMD build --keep-empty-dirs --no-resave-data iPath StartedAt: 2025-01-27 19:53:55 -0500 (Mon, 27 Jan 2025) EndedAt: 2025-01-27 19:55:13 -0500 (Mon, 27 Jan 2025) EllapsedTime: 78.3 seconds RetCode: 0 Status: OK PackageFile: iPath_1.12.0.tar.gz PackageFileSize: 2.989 MiB