Package: iPath Version: 1.12.0 Command: /Library/Frameworks/R.framework/Resources/bin/R CMD build --keep-empty-dirs --no-resave-data iPath StartedAt: 2025-01-28 01:56:36 -0500 (Tue, 28 Jan 2025) EndedAt: 2025-01-28 01:57:18 -0500 (Tue, 28 Jan 2025) EllapsedTime: 42.0 seconds RetCode: 0 Status: OK PackageFile: iPath_1.12.0.tar.gz PackageFileSize: 2.989 MiB