Package: iPAC Version: 1.50.0 Command: /home/biocbuild/R/R/bin/R CMD check --install=check:iPAC.install-out.txt --library=/home/biocbuild/R/R/site-library --no-vignettes --timings iPAC_1.50.0.tar.gz StartedAt: 2025-01-28 08:13:51 -0000 (Tue, 28 Jan 2025) EndedAt: 2025-01-28 08:18:43 -0000 (Tue, 28 Jan 2025) EllapsedTime: 291.3 seconds RetCode: 0 Status: OK CheckDir: iPAC.Rcheck Warnings: 0