Package: iPAC Version: 1.50.0 Command: /home/biocbuild/R/R/bin/R CMD build --keep-empty-dirs --no-resave-data iPAC StartedAt: 2025-01-28 01:05:45 -0000 (Tue, 28 Jan 2025) EndedAt: 2025-01-28 01:06:06 -0000 (Tue, 28 Jan 2025) EllapsedTime: 21.0 seconds RetCode: 0 Status: OK PackageFile: iPAC_1.50.0.tar.gz PackageFileSize: 606.9 KiB