Package: iPAC Version: 1.50.0 Command: /home/biocbuild/bbs-3.20-bioc/R/bin/R CMD build --keep-empty-dirs --no-resave-data --md5 iPAC StartedAt: 2025-01-27 18:40:34 -0500 (Mon, 27 Jan 2025) EndedAt: 2025-01-27 18:40:51 -0500 (Mon, 27 Jan 2025) EllapsedTime: 17.0 seconds RetCode: 0 Status: OK PackageFile: iPAC_1.50.0.tar.gz PackageFileSize: 620.6 KiB