Package: iNETgrate Version: 1.4.0 Command: /home/biocbuild/R/R/bin/R CMD check --install=check:iNETgrate.install-out.txt --library=/home/biocbuild/R/R/site-library --no-vignettes --timings iNETgrate_1.4.0.tar.gz StartedAt: 2025-01-28 08:09:11 -0000 (Tue, 28 Jan 2025) EndedAt: 2025-01-28 08:24:43 -0000 (Tue, 28 Jan 2025) EllapsedTime: 931.9 seconds RetCode: 0 Status: OK CheckDir: iNETgrate.Rcheck Warnings: 0