Package: iNETgrate Version: 1.4.0 Command: /Library/Frameworks/R.framework/Resources/bin/R CMD INSTALL iNETgrate StartedAt: 2025-01-27 18:05:33 -0500 (Mon, 27 Jan 2025) EndedAt: 2025-01-27 18:06:44 -0500 (Mon, 27 Jan 2025) EllapsedTime: 70.9 seconds RetCode: 0 Status: OK