Package: iNETgrate Version: 1.4.0 Command: /Library/Frameworks/R.framework/Resources/bin/R CMD build --keep-empty-dirs --no-resave-data iNETgrate StartedAt: 2025-04-01 01:36:29 -0400 (Tue, 01 Apr 2025) EndedAt: 2025-04-01 01:41:21 -0400 (Tue, 01 Apr 2025) EllapsedTime: 292.0 seconds RetCode: 0 Status: OK PackageFile: iNETgrate_1.4.0.tar.gz PackageFileSize: 3.978 MiB