Package: iClusterPlus Version: 1.42.0 Command: chmod a+r iClusterPlus -R && F:\biocbuild\bbs-3.20-bioc\R\bin\R.exe CMD build --keep-empty-dirs --no-resave-data iClusterPlus StartedAt: 2025-01-27 19:34:15 -0500 (Mon, 27 Jan 2025) EndedAt: 2025-01-27 19:34:53 -0500 (Mon, 27 Jan 2025) EllapsedTime: 38.4 seconds RetCode: 0 Status: OK PackageFile: iClusterPlus_1.42.0.tar.gz PackageFileSize: 20.6 MiB