Package: iClusterPlus Version: 1.42.0 Command: /home/biocbuild/bbs-3.20-bioc/R/bin/R CMD INSTALL iClusterPlus StartedAt: 2025-03-31 15:12:03 -0400 (Mon, 31 Mar 2025) EndedAt: 2025-03-31 15:12:35 -0400 (Mon, 31 Mar 2025) EllapsedTime: 32.4 seconds RetCode: 0 Status: OK