Package: iCheck Version: 1.36.0 Command: /home/biocbuild/R/R/bin/R CMD INSTALL iCheck StartedAt: 2025-02-10 21:07:31 -0000 (Mon, 10 Feb 2025) EndedAt: 2025-02-10 21:08:31 -0000 (Mon, 10 Feb 2025) EllapsedTime: 60.7 seconds RetCode: 0 Status: OK