Package: iCheck Version: 1.36.0 Command: chmod a+r iCheck -R && F:\biocbuild\bbs-3.20-bioc\R\bin\R.exe CMD build --keep-empty-dirs --no-resave-data iCheck StartedAt: 2025-02-10 19:42:02 -0500 (Mon, 10 Feb 2025) EndedAt: 2025-02-10 19:43:26 -0500 (Mon, 10 Feb 2025) EllapsedTime: 83.8 seconds RetCode: 0 Status: OK PackageFile: iCheck_1.36.0.tar.gz PackageFileSize: 378.8 KiB