Package: iCheck Version: 1.36.0 Command: /home/biocbuild/bbs-3.20-bioc/R/bin/R CMD INSTALL iCheck StartedAt: 2025-02-10 16:02:04 -0500 (Mon, 10 Feb 2025) EndedAt: 2025-02-10 16:02:52 -0500 (Mon, 10 Feb 2025) EllapsedTime: 47.2 seconds RetCode: 0 Status: OK