Package: iCheck Version: 1.36.0 Command: /home/biocbuild/bbs-3.20-bioc/R/bin/R CMD check --install=check:iCheck.install-out.txt --library=/home/biocbuild/bbs-3.20-bioc/R/site-library --timings iCheck_1.36.0.tar.gz StartedAt: 2025-02-10 23:09:05 -0500 (Mon, 10 Feb 2025) EndedAt: 2025-02-10 23:14:34 -0500 (Mon, 10 Feb 2025) EllapsedTime: 329.4 seconds RetCode: 0 Status: OK CheckDir: iCheck.Rcheck Warnings: 0