Package: iCheck Version: 1.36.0 Command: rm -rf iCheck.buildbin-libdir && mkdir iCheck.buildbin-libdir && /Users/biocbuild/BBS/utils/build-universal.sh iCheck_1.36.0.tar.gz /Library/Frameworks/R.framework/Resources/bin/R iCheck.buildbin-libdir StartedAt: 2025-02-11 13:30:14 -0500 (Tue, 11 Feb 2025) EndedAt: 2025-02-11 13:33:06 -0500 (Tue, 11 Feb 2025) EllapsedTime: 171.9 seconds RetCode: 0 Status: OK PackageFile: iCheck_1.36.0.tgz PackageFileSize: 771.8 KiB