Package: iCOBRA Version: 1.34.0 Command: rm -rf iCOBRA.buildbin-libdir && mkdir iCOBRA.buildbin-libdir && F:\biocbuild\bbs-3.20-bioc\R\bin\R.exe CMD INSTALL --build --library=iCOBRA.buildbin-libdir iCOBRA_1.34.0.tar.gz StartedAt: 2025-02-04 08:43:22 -0500 (Tue, 04 Feb 2025) EndedAt: 2025-02-04 08:44:51 -0500 (Tue, 04 Feb 2025) EllapsedTime: 88.6 seconds RetCode: 0 Status: OK PackageFile: iCOBRA_1.34.0.zip PackageFileSize: 2.41 MiB