Package: iCOBRA Version: 1.34.0 Command: /home/biocbuild/bbs-3.20-bioc/R/bin/R CMD check --install=check:iCOBRA.install-out.txt --library=/home/biocbuild/bbs-3.20-bioc/R/site-library --timings iCOBRA_1.34.0.tar.gz StartedAt: 2025-02-03 23:17:57 -0500 (Mon, 03 Feb 2025) EndedAt: 2025-02-03 23:19:52 -0500 (Mon, 03 Feb 2025) EllapsedTime: 115.2 seconds RetCode: 0 Status: OK CheckDir: iCOBRA.Rcheck Warnings: 0