Package: iCOBRA Version: 1.34.0 Command: /Library/Frameworks/R.framework/Resources/bin/R CMD check --install=check:iCOBRA.install-out.txt --library=/Library/Frameworks/R.framework/Resources/library --no-vignettes --timings iCOBRA_1.34.0.tar.gz StartedAt: 2025-01-28 05:17:14 -0500 (Tue, 28 Jan 2025) EndedAt: 2025-01-28 05:21:52 -0500 (Tue, 28 Jan 2025) EllapsedTime: 277.3 seconds RetCode: 0 Status: OK CheckDir: iCOBRA.Rcheck Warnings: 0