Package: iCOBRA Version: 1.34.0 Command: /Library/Frameworks/R.framework/Resources/bin/R CMD build --keep-empty-dirs --no-resave-data iCOBRA StartedAt: 2025-01-27 19:45:51 -0500 (Mon, 27 Jan 2025) EndedAt: 2025-01-27 19:46:59 -0500 (Mon, 27 Jan 2025) EllapsedTime: 68.4 seconds RetCode: 0 Status: OK PackageFile: iCOBRA_1.34.0.tar.gz PackageFileSize: 3.125 MiB