Package: iCOBRA Version: 1.34.0 Command: /Library/Frameworks/R.framework/Resources/bin/R CMD build --keep-empty-dirs --no-resave-data iCOBRA StartedAt: 2025-04-01 01:26:04 -0400 (Tue, 01 Apr 2025) EndedAt: 2025-04-01 01:26:36 -0400 (Tue, 01 Apr 2025) EllapsedTime: 31.9 seconds RetCode: 0 Status: OK PackageFile: iCOBRA_1.34.0.tar.gz PackageFileSize: 3.125 MiB