Package: iCNV Version: 1.26.0 Command: /home/biocbuild/R/R/bin/R CMD INSTALL iCNV StartedAt: 2025-01-27 21:24:20 -0000 (Mon, 27 Jan 2025) EndedAt: 2025-01-27 21:25:00 -0000 (Mon, 27 Jan 2025) EllapsedTime: 40.1 seconds RetCode: 0 Status: OK