Package: iCNV Version: 1.26.0 Command: /Library/Frameworks/R.framework/Resources/bin/R CMD build --keep-empty-dirs --no-resave-data iCNV StartedAt: 2025-01-27 19:45:48 -0500 (Mon, 27 Jan 2025) EndedAt: 2025-01-27 19:51:38 -0500 (Mon, 27 Jan 2025) EllapsedTime: 349.2 seconds RetCode: 0 Status: OK PackageFile: iCNV_1.26.0.tar.gz PackageFileSize: 2.36 MiB