Package: iBMQ Version: 1.46.0 Command: /home/biocbuild/R/R/bin/R CMD INSTALL iBMQ StartedAt: 2025-02-03 20:28:41 -0000 (Mon, 03 Feb 2025) EndedAt: 2025-02-03 20:28:54 -0000 (Mon, 03 Feb 2025) EllapsedTime: 13.0 seconds RetCode: 0 Status: OK