Package: iBMQ Version: 1.46.0 Command: chmod a+r iBMQ -R && F:\biocbuild\bbs-3.20-bioc\R\bin\R.exe CMD build --keep-empty-dirs --no-resave-data iBMQ StartedAt: 2025-01-27 19:34:03 -0500 (Mon, 27 Jan 2025) EndedAt: 2025-01-27 19:34:39 -0500 (Mon, 27 Jan 2025) EllapsedTime: 35.2 seconds RetCode: 0 Status: OK PackageFile: iBMQ_1.46.0.tar.gz PackageFileSize: 3.886 MiB