Package: iBBiG Version: 1.50.0 Command: chmod a+r iBBiG -R && F:\biocbuild\bbs-3.20-bioc\R\bin\R.exe CMD build --keep-empty-dirs --no-resave-data iBBiG StartedAt: 2025-03-31 19:35:16 -0400 (Mon, 31 Mar 2025) EndedAt: 2025-03-31 19:36:05 -0400 (Mon, 31 Mar 2025) EllapsedTime: 49.0 seconds RetCode: 0 Status: OK PackageFile: iBBiG_1.50.0.tar.gz PackageFileSize: 908.2 KiB