Package: iBBiG Version: 1.50.0 Command: /Library/Frameworks/R.framework/Resources/bin/R CMD INSTALL iBBiG StartedAt: 2025-01-30 17:45:57 -0500 (Thu, 30 Jan 2025) EndedAt: 2025-01-30 17:46:06 -0500 (Thu, 30 Jan 2025) EllapsedTime: 9.2 seconds RetCode: 0 Status: OK