Package: iBBiG Version: 1.50.0 Command: /Library/Frameworks/R.framework/Resources/bin/R CMD check --install=check:iBBiG.install-out.txt --library=/Library/Frameworks/R.framework/Resources/library --no-vignettes --timings iBBiG_1.50.0.tar.gz StartedAt: 2025-01-31 22:12:54 -0500 (Fri, 31 Jan 2025) EndedAt: 2025-01-31 22:14:57 -0500 (Fri, 31 Jan 2025) EllapsedTime: 123.6 seconds RetCode: 0 Status: OK CheckDir: iBBiG.Rcheck Warnings: 0