Package: iBBiG Version: 1.50.0 Command: /Library/Frameworks/R.framework/Resources/bin/R CMD build --keep-empty-dirs --no-resave-data iBBiG StartedAt: 2025-04-01 01:23:03 -0400 (Tue, 01 Apr 2025) EndedAt: 2025-04-01 01:23:50 -0400 (Tue, 01 Apr 2025) EllapsedTime: 46.7 seconds RetCode: 0 Status: OK PackageFile: iBBiG_1.50.0.tar.gz PackageFileSize: 910.9 KiB