Package: iBBiG Version: 1.50.0 Command: rm -rf iBBiG.buildbin-libdir && mkdir iBBiG.buildbin-libdir && /Users/biocbuild/BBS/utils/build-universal.sh iBBiG_1.50.0.tar.gz /Library/Frameworks/R.framework/Resources/bin/R iBBiG.buildbin-libdir StartedAt: 2025-02-01 15:19:06 -0500 (Sat, 01 Feb 2025) EndedAt: 2025-02-01 15:19:17 -0500 (Sat, 01 Feb 2025) EllapsedTime: 11.4 seconds RetCode: 0 Status: OK PackageFile: iBBiG_1.50.0.tgz PackageFileSize: 1.085 MiB